BEGIN:VCALENDAR
VERSION:2.0
PRODID:-//Plone.org//NONSGML plone.app.event//EN
X-WR-TIMEZONE:Europe/Andorra
BEGIN:VEVENT
SUMMARY:Excursions i activitats per trobar el benestar físic i emocional
DTSTART;TZID=Europe/Andorra;VALUE=DATE-TIME:20210802T120000
DTSTAMP;VALUE=DATE-TIME:20260419T162925Z
UID:2834647fa014474e8ae3a4fa8a86e68c@www.ordino.ad
CREATED;VALUE=DATE-TIME:20210806T105727Z
LAST-MODIFIED;VALUE=DATE-TIME:20210806T110110Z
URL:https://www.ordino.ad/news/excursions-i-activitats-per-trobar-el-benes
 tar-fisic-i-emocional
END:VEVENT
BEGIN:VTIMEZONE
TZID:Europe/Andorra
X-LIC-LOCATION:Europe/Andorra
BEGIN:DAYLIGHT
DTSTART;VALUE=DATE-TIME:20210328T030000
TZNAME:CEST
TZOFFSETFROM:+0100
TZOFFSETTO:+0200
END:DAYLIGHT
END:VTIMEZONE
END:VCALENDAR
